BEGIN:VCALENDAR
VERSION:2.0
PRODID:-// - ECPv6.15.20//NONSGML v1.0//EN
CALSCALE:GREGORIAN
METHOD:PUBLISH
X-ORIGINAL-URL:https://www.bikers4fun.com
X-WR-CALDESC:Events for 
REFRESH-INTERVAL;VALUE=DURATION:PT1H
X-Robots-Tag:noindex
X-PUBLISHED-TTL:PT1H
BEGIN:VTIMEZONE
TZID:UTC
BEGIN:STANDARD
TZOFFSETFROM:+0000
TZOFFSETTO:+0000
TZNAME:UTC
DTSTART:20240101T000000
END:STANDARD
END:VTIMEZONE
BEGIN:VEVENT
DTSTART;TZID=UTC:20251101T090000
DTEND;TZID=UTC:20251101T153000
DTSTAMP:20260420T101747
CREATED:20240531T000143Z
LAST-MODIFIED:20251027T170544Z
UID:1309-1761987600-1762011000@www.bikers4fun.com
SUMMARY:1ST SAT. OF EACH MONTH "UNITY OPEN RUN" INDEPENDENT & CLUB RIDE TO PADARO BCH GRILL
DESCRIPTION:A “UNITY MOTORCYCLE RUN” IS OUR WAY OF HAVING ALL RIDERS RIDING FOR ONE CAUSE . .. . BECAUSE WE ALL LOVE TO RIDE MOTORCYCLES \nWE SCENIC RIDE TO GET TO PADARO BEACH GRILL\, CARPINTERIA\, CA \n9 – 9:15 AM MEET AT BARTELS’ HD DEALERSHIP\, 4141 LINCOLN BL\, MARINA DEL REY\, CA 90292 \nDIRECTIONS \n10 – 10:15 AM MEET AT SANTA CLARITA HD DEALERSHIP\, 28656 THE OLD RD\, SANTA CLARITA\, CA 91355 \nDIRECTIONS \nLUNCH AT PADARO BEACH GRILL\, 3765 SANTA CLAUS LN\, CARPINTERIA\, CA \nDIRECTIONS \nRIDING AND RESPECT GO HAND IN HAND . .. LET’S RIDE Y’ALL \nIF YOU HAVE ANY QUESTIONS YOU CAN ALWAYS CONTACT: \nJOHNNY B GOOD – C. 310-409-8606 \nNATALIE KAN – FACEBOOK
URL:https://www.bikers4fun.com/event/106-days-till-the-hippie-big-sur-run-does-anyone-have-airbnb-experience-for-16-bikers/
END:VEVENT
BEGIN:VEVENT
DTSTART;TZID=UTC:20251101T093000
DTEND;TZID=UTC:20251101T150000
DTSTAMP:20260420T101747
CREATED:20250128T160841Z
LAST-MODIFIED:20251101T142452Z
UID:5447-1761989400-1762009200@www.bikers4fun.com
SUMMARY:1ST SAT. OF MONTH OPEN PATCH\, CLUBS & INDEPENDENTS UNITY RUN
DESCRIPTION:ALWAYS OPEN & FREE TO ALL MOTORCYCLIST FROM ALL OVER – WE ARE INDEPENDENT AND EVERYONE IS INVITED TO SHARE IN CAMARADERIE \n9:00 – 9:15  AM  MEET AT BARTELS’ HD DEALERSHIP\, 4141 LINCOLN BL\, MARINA DEL REY\, CA 90292 \n10:00 – 10:15 AM MEET SANTA CLARITA HARLEY-DAVIDSON DEALERSHIP\,  PICK UP GOLDWING NATALIE K. \n11:00 – 11:35 AM POSSIBLE PIT-STOP FOR A PHOTO OP .. .. SMILE Y’ALL \nROUTE: I’M THINKING THROUGH GRANADA HILLS\, 118 FWY SIMI VALLEY\, MOORPARK TO CAMARILLO \nLUNCH AT PADARO BEACH GRILL\, 3765 SANTA CLAUSE LANE\, CARPINTERIA\, CA 93013 \nDIRECTIONS \nCONTACT: JOHNNY B GOOD – CELL: 310-409-8606 \nTAGS: DECEMBER 6\, 2025\, UNITY RUN\, GENERAL PUBLIC\, OPEN TO ALL\, ALL BIKES\, ALL BRANDS\, ALL PATCHES\,  CAMARILLO\, BIKERS4FUN\, B4F\, JOHNNY\, B\, GOOD\, SOCAL\, MOTORCYCLES\, BIKERS\, RIDERS\, INDEPENDENT\, TORRANCE\, SOCAL\, SOUTHERN CA\, FREE\, RIDES\, EVENTS\, RALLIES\,
URL:https://www.bikers4fun.com/event/oxnard-run-the-thirsty-ox-the-waterside-rest-lunch/
ATTACH;FMTTYPE=image/png:https://www.bikers4fun.com/wp-content/uploads/2025/11/cropped-Padaro-Beach-Grill-Flier.png
END:VEVENT
BEGIN:VEVENT
DTSTART;TZID=UTC:20251108T093000
DTEND;TZID=UTC:20251108T143000
DTSTAMP:20260420T101747
CREATED:20250224T160316Z
LAST-MODIFIED:20251104T162800Z
UID:5920-1762594200-1762612200@www.bikers4fun.com
SUMMARY:SAT. NOV. 8 PRE LOVE RIDE 34 TOPANGA RUN TO MAGNUM HD FREE FOOD EVENT
DESCRIPTION:OPPORTUNITIES ONLY HAPPEN WHEN YOU ARE OPEN TO NEW IDEA’S \n9:30 – 10:00  AM MEET BARTELS’ HD DEALERSHIP\, 4141 LINCOLN BLVD.\, MARINA DEL REY\, CA  90292 \nDIRECTIONS \n10:35 – 11:00 AM MEET 7 ELEVEN CONVENIENCE STORE\, 18541 PCH\, MALIBU \nDIRECTIONS \nROUTE – PCH COAST TO TOPANGA CYN. TO 101 FRWY TO MAGNUM HD DEALERSHIP FOR FREE FOOD . .. . PACK YOUR OWN BEER I’D IMAGINE. \nLUNCH FREE FOOD AT MAGNUM HD DEALERSHIP\, 6300 SEPULVEDA BL\, VAN NUYS\, CA 91411 \nAFTER LUNCH POSSIBLY MORE RIDING FOR THOSE WITH ENERGY TO BURN \nBEING FLEXIBLE AND PATIENT IS ALWAYS THE KEY TO LOW STRESS\n \nTAGS:  EVENTS\, RIDE\, SATURDAY\, MOTORCYCLE\, BARTELS’ HD\, TOPANGA CANYON\, MAGNUM HARLEY DAVIDSON\, BIKERS4FUN\, B4F\, JOHNNY B GOOD\, JBG\, INDEPENDENT\, FREE RIDES\, FREE EVENTS\, NOVENBER 8\, 2025\, FREE TO ALL WITH AN ATTITUDE\,
URL:https://www.bikers4fun.com/event/santa-barbara-cold-spring-tavern-open-free-run/
ATTACH;FMTTYPE=image/jpeg:https://www.bikers4fun.com/wp-content/uploads/2025/02/Magnum-HD-pic.jpg
END:VEVENT
BEGIN:VEVENT
DTSTART;TZID=UTC:20251111T100000
DTEND;TZID=UTC:20251111T143000
DTSTAMP:20260420T101747
CREATED:20240722T165453Z
LAST-MODIFIED:20251024T162645Z
UID:2088-1762855200-1762871400@www.bikers4fun.com
SUMMARY:TUES. NOV. 11\, 2025 VETERANS DAY LOCAL PV COAST OPEN TO ALL RIDE
DESCRIPTION:IT’S VETERANS DAY LET’S RIDE TOGETHER AND BE THANKFUL OF THEIR SERVICE \nWE RIDE AROUND THE PALOS VERDES PENINSULA COAST AND GRAB SOME LUNCH \n9:45 – 10:15 AM MEET JACK-IN-THE- BOX\, 1724 W PAC. CO. HWY\, LOMITA  CA \nDIRECTIONS \n10:45 – 11:15 AM MEET NEPTUNE FOUNTAIN\, PALOS VERDES ESTATES\, CA \nDIRECTIONS \nLUNCH BREWPORT TAP HOUSE & KITCHEN (310) 648-8972\, 204 MAIN ST.\, EL SEGUNDO\, CA 90245 \nDIRECTIONS \nAFTER LUNCH THE OPTION TO RIDE SOME MORE IS UP TO Y’ALL \nCONTACT: JOHNNY B GOOD IF YOU HAVE AN IDEA OR COMPLAINT \nThank You All For Being A United In All Biker Celebrations! \nTags: november 11\, 2025\, veterans day\, open\, clubs\, patches\, bikers4fun\, b4f\, johnny b good\, jbg\, tuesday\, brewport tap  house\, lunch\, brew port\, ca\, el segundo\, main street\, let’s ride\, open\, rides\, events\, rallies\, independent.
URL:https://www.bikers4fun.com/event/sat-aug-3-2024-happy-birthday-tj-brunch-run-ortega-hwy-fallbrook-rainbow-oaks-4-lunch/
ATTACH;FMTTYPE=image/png:https://www.bikers4fun.com/wp-content/uploads/2024/07/Veterans-Day-Open-Run.png
END:VEVENT
BEGIN:VEVENT
DTSTART;TZID=UTC:20251112T193000
DTEND;TZID=UTC:20251112T220000
DTSTAMP:20260420T101747
CREATED:20241028T161541Z
LAST-MODIFIED:20251110T154709Z
UID:3578-1762975800-1762984800@www.bikers4fun.com
SUMMARY:WING NIGHT WED. ISM BREWING KIT. L. B. 7:30 PM
DESCRIPTION:WE SWITCH IT UP TO KEEP THINGS ALIVE\, FRESH & DRAMA FREE MY FRIENDS .. . JOIN US IT’S OPEN \n7:30 – 10:00 PM  ISM BREWING KITCHEN\, 210 E 3RD ST.\, LONG BEACH\, CA 90802\n \nDIRECTIONS \nPARKING 4 MOTORCYCLES IN FRONT OF ESTABLISHMENT\, ENTER VIA ALLEY \nVEHICLE PARKING ACROSS THE STREET IN ADJACENT COVERED PARKING LOT\, 2 HR. MIN.\n \nAS ALWAYS ALL RIDERS\, BIKERS & BRANDS ARE ALWAYS WELCOME. \nNEED MORE INFO.  MADD DAWG MANNY T. \nTAGS: ism brewing kitchen\, ism\, independent bikers\, wing wednesday\, hot wings\, camaraderie\, bikers\, bikers4fun\, Manny\, joe jost’s\, long beach\, anaheim st\, bikers4fun.com\, b4f\, johnny b good\, jbg\, bike night\, facebook\, bikers4fun socal\, south bay\, independent\, \n  \n 
URL:https://www.bikers4fun.com/event/happy-hour-chicken-wings-wed-ism-brewing-kitchen-all-day-long/
ATTACH;FMTTYPE=image/png:https://www.bikers4fun.com/wp-content/uploads/2025/07/cropped-ISM-Brewing-Kitchen-L-B.png
END:VEVENT
BEGIN:VEVENT
DTSTART;TZID=UTC:20251115T093000
DTEND;TZID=UTC:20251115T143000
DTSTAMP:20260420T101747
CREATED:20240924T152121Z
LAST-MODIFIED:20251112T154353Z
UID:3006-1763199000-1763217000@www.bikers4fun.com
SUMMARY:MT BALDY LODGE RUN - DRY WEATHER PERMITTING ONLY
DESCRIPTION:WEATHER PERMITTING ONLY – OPEN & FREE BECAUSE B4F IS AN INDEPENDENT ORGANIZATION – WE FLY NO COLORS\, PATCHES OR SYMBOLS. JUST FUN\, SAFE & RESPECT  \nMEET UP LOCATIONS: GARDENA\, BELLFLOWER\, BALDWIN PARK \n9:00 – 9:30  AM ARCO STATION\, 1001 ARTESIA BL\, GARDENA\, CA\n \n9:45 – 10:10 AM GOLDEN CORRAL BUFFET\, 17308 BELLFLOWER BL\, BELLFLOWER\, CA\n \n10:25 – 10:45 AM LAIDLAW HD DEALERSHIP\, 1919 PUENTE AVE. BALDWIN PARK\, CA\n \nLUNCH AT MT BALDY LODGE\, 6777 MT BALDY RD\, MT BALDY\, CA 91759\n \nROUTE FROM LAIDLAW HD DEALERSHIP – 10 FWY\, 57 FWY\, 210 FWY \nHAVE QUESTIONS\, CALL OR TEXT JOHNNY B GOOD – 310-409-8606 \nTags: saturday\, november 15 2025\, open rides\, open events\, free\, general public\, all clubs\, bikers4fun.com\, b4f\, johnny b good\, jbg\, free\, independent\, bikers\, riders\, events\, torrance\, gardena\, bellflower\, baldwin park\, mt baldy\, mountain\, open coed riders\, females\, beginners\,
URL:https://www.bikers4fun.com/event/mt-baldy-lodge-run-4-lunch-open-free-to-all-motorcyclist/
ATTACH;FMTTYPE=image/png:https://www.bikers4fun.com/wp-content/uploads/2025/11/cropped-Weather-Sat-n-Sun-flier.png
END:VEVENT
BEGIN:VEVENT
DTSTART;TZID=UTC:20251116T100000
DTEND;TZID=UTC:20251116T143000
DTSTAMP:20260420T101747
CREATED:20251102T153140Z
LAST-MODIFIED:20251112T164834Z
UID:8784-1763287200-1763303400@www.bikers4fun.com
SUMMARY:SUNDAY RIDE ONLY IF THE ROADS ARE COMPLETELY DRY . ..  OK
DESCRIPTION:THE FUN IN BEING AN INDEPENDENT RIDER IS THAT WE CAN DO AS WE WISH AND GO WHEREVER THE WIND TAKES US AND WE ANSWER TO NO ONE \nIF SUNDAY ROADS ARE COMPLETELY DRY I WILL POST A RIDE SUN. MORN. \nANYONE CAN TEXT ME BECAUSE I’M JOHNNY B GOOD \nCELLULAR: 310-409-8606 \nTags: sunday\, november 16\, 2025 open rides\, open events\, free for all\, to ride\, safe\, respectful\, camaraderie\, motorcycles\, independent\, coed riders\, socal riders\, bikers4fun.com\, johnny b good\, jbg\, b4f
URL:https://www.bikers4fun.com/event/sat-ride-suggestion-box-is-now-open-for-new-locations/
ATTACH;FMTTYPE=image/png:https://www.bikers4fun.com/wp-content/uploads/2025/11/Wet-Roads-Pic-1.png
END:VEVENT
BEGIN:VEVENT
DTSTART;TZID=UTC:20251119T193000
DTEND;TZID=UTC:20251119T213000
DTSTAMP:20260420T101747
CREATED:20250301T151457Z
LAST-MODIFIED:20251118T170814Z
UID:6008-1763580600-1763587800@www.bikers4fun.com
SUMMARY:WINGIN IT WED. BIKE NITE KEEGAN'S SPORTS LOUNGE TORRANCE 5:30 PM
DESCRIPTION:IF YOU HAVE AN OPEN WED. NIGHT\, THEN GO TO KEEGAN’S SPORTS LOUNGE IN TORRANCE \n7:30 – 10:00 PM KEEGAN’S SPORTS LOUNGE\, 1434 MARCELINA AVE\, TORRANCE 90501 \nDIRECTIONS \nQUESTIONS ASK MADD MANNY DAWG \nJOHNNY B GOOD – 310-409-8606 \nTAGS:  JOHNNY B GOOD\, JBG\, BIKERS4FUN\, B4F\, INDEPENDENT RIDERS\, FREE RIDES\, FREE EVENTS\, POSITIVE VIBES ONLY\, RESPECT\, SOCAL RIDERS\, MISFITZ
URL:https://www.bikers4fun.com/event/johnny-b-goods-birthday-run-to-somewhere/
END:VEVENT
BEGIN:VEVENT
DTSTART;TZID=UTC:20251122T090000
DTEND;TZID=UTC:20251122T150000
DTSTAMP:20260420T101747
CREATED:20240514T143217Z
LAST-MODIFIED:20251122T044600Z
UID:818-1763802000-1763823600@www.bikers4fun.com
SUMMARY:SAT. THE LOCAL GHETTO RUN SWALLOWS INN
DESCRIPTION:WEATHER ALWAYS COME INTO PLAY WHEN WE RIDE MOTORCYCLES\, SO WE WILL RIDE LOCALLY TO SAN JUAN CAPISTRANO’S SWALLOWS INN JUST TO BE SAFE. \nLUNCH MIGHT BE A S. J. CAP. BREWERY OR MAYBE COOK’S  \n8:45 – 9:45 AM MEET AT CURLEY’S CAFE\, 1999 E WILLOW ST\, SIGNAL HILL (LONG BEACH)\, CA 90755  \nDIRECTIONS  \n10:15 – 10:45  AM MEET AT O.C. HD DEALERSHIP\, 8677 RESEARCH DR.\, IRVINE\, CA 92618 \nDIRECTIONS \n11:00 – 11:45 AM MEET SWALLOW’S INN\, 31786 CAMINO CAPISTRANO\, SAN JUAN CAPISTRANO\, CA 92675 \nLUNCH AT LOCAL BREWERY OR LOCAL RESTAURANT  \nJBG  CELL: 310-409-8606 \nAll Motorcycle Related Businesses – Restaurants\, Promo Events\, Riding Clubs\, Independents\, etc. \nContact: Johnny B Good \nCellular: 310-409-8606 \nTags: bikers4fun\, b4f\, johnny b good\, jbg\, free events\, motorcycle rides\, saturday\, march 29\, moorpark\, socal\, torrance\, trashin supply co\, trashin\, raffles\, stunts\, entertainment
URL:https://www.bikers4fun.com/event/sat-july-13-2024-extended-mad-ride-day-motorcycle-appreciation-day/
LOCATION:TBD
CATEGORIES:B4F Rides
END:VEVENT
BEGIN:VEVENT
DTSTART;TZID=UTC:20251130T093000
DTEND;TZID=UTC:20251130T140000
DTSTAMP:20260420T101747
CREATED:20240329T020005Z
LAST-MODIFIED:20251130T154254Z
UID:380-1764495000-1764511200@www.bikers4fun.com
SUMMARY:SUNDAY\, NOV. 30\, 2025 LET'S DO BREAKFAST & BLOODY'S
DESCRIPTION:SUNDAY\, LET’S RIDE LIKE WE JUST DON’T CARE \n2 MEET UPS:  JBG HOUSE & MARINA CAFE IN WILMINGTON \n9:30 – 10:00 AM  MEET JBG HOUSE IN TORRANCE\, CA 90501 \nDIRECTIONS TO JOHNNY’S HOUSE \n1030 AM  MEET MARINA CAFE\, 720 PENINSULA RD\, WILMINGTON\, CA  90744  \nDIRECTIONS TO MARINA CAFE \nAFTER EATING & DRINKING THERE WILL BE MORE RIDING FOR THOSE OF YOU THAT STILL HAVE ENERGY TO BURN! \nBIKER MADD MANNY \nJOHNNY B GOOD  C. 310-409-8606 \nTags: marina cafe\, wilmington restaurant\, wilmas\, sunday\, rides\, events\, open invitation\, November 30\, 2025\, bikers4fun\, b4f\, johnny b good\, jbg\, april 5\, free rides\, free events\, independent riders\, no rulez\, no rules\, no limits\, no limitz\, south bay\, socal riders\, socal facebook\, bikers4fun socal\, saturday\, lunch\, southern california\, \n 
URL:https://www.bikers4fun.com/event/3-30-ride-cancelled/
END:VEVENT
END:VCALENDAR