BEGIN:VCALENDAR
VERSION:2.0
PRODID:-// - ECPv6.15.20//NONSGML v1.0//EN
CALSCALE:GREGORIAN
METHOD:PUBLISH
X-ORIGINAL-URL:https://www.bikers4fun.com
X-WR-CALDESC:Events for 
REFRESH-INTERVAL;VALUE=DURATION:PT1H
X-Robots-Tag:noindex
X-PUBLISHED-TTL:PT1H
BEGIN:VTIMEZONE
TZID:UTC
BEGIN:STANDARD
TZOFFSETFROM:+0000
TZOFFSETTO:+0000
TZNAME:UTC
DTSTART:20250101T000000
END:STANDARD
END:VTIMEZONE
BEGIN:VEVENT
DTSTART;TZID=UTC:20261225T103000
DTEND;TZID=UTC:20261225T133000
DTSTAMP:20260420T093052
CREATED:20241219T165307Z
LAST-MODIFIED:20260324T155741Z
UID:4582-1798194600-1798205400@www.bikers4fun.com
SUMMARY:MERRY CHRISTMAS DAY DEC. 25\, 2026 LOCAL BIKE RUN
DESCRIPTION:IF I GET A POSITIVE FEED BACK FROM THOSE THAT WANT TO A LUNCH RIDE ON CHRISTMAS DAY\, THAT IS WHEN I WILL POST IT ON THE CALENDAR WITH THE WORD “CONFIRMED” . . AND NOT TENTATIVE \nJUST TEXT JBG 310-409-8606  PLEASE CHECK OUR CALENDAR THE DAY OF THE EVENT TO BE SURE THINGS ARE COOL. THZ \n 
URL:https://www.bikers4fun.com/event/merry-christmas-day-with-a-possible-local-bike-run/
END:VEVENT
END:VCALENDAR