BEGIN:VCALENDAR
VERSION:2.0
PRODID:-// - ECPv6.15.20//NONSGML v1.0//EN
CALSCALE:GREGORIAN
METHOD:PUBLISH
X-ORIGINAL-URL:https://www.bikers4fun.com
X-WR-CALDESC:Events for 
REFRESH-INTERVAL;VALUE=DURATION:PT1H
X-Robots-Tag:noindex
X-PUBLISHED-TTL:PT1H
BEGIN:VTIMEZONE
TZID:UTC
BEGIN:STANDARD
TZOFFSETFROM:+0000
TZOFFSETTO:+0000
TZNAME:UTC
DTSTART:20250101T000000
END:STANDARD
END:VTIMEZONE
BEGIN:VEVENT
DTSTART;TZID=UTC:20260307T090000
DTEND;TZID=UTC:20260308T153000
DTSTAMP:20260421T082014
CREATED:20240613T143632Z
LAST-MODIFIED:20260306T162851Z
UID:1490-1772874000-1772983800@www.bikers4fun.com
SUMMARY:TWO SEPARATE RIDES OFFERED  . .. . YOU CHOOSE
DESCRIPTION:BECAUSE YOU ASKED FOR IT . .. SO HERE IT IS Y’ALL MISFITZ \nRIDE 1. RIDE W/NATALIE ANGELES CREST HWY TO FRAZIER PARK \n8:15 – 8:30 AM MEET SANTA CLARITA HD DEALERSHIP\, 28656 THE OLD ROAD\, SANTA CLARITA\, CA 91355 \nDIRECTIONS \n9:00 – 9:15 AM MEET PANERA BREAD PARKING LOT\, 990 TOWN CENTER DR\, LA CANADA FLINTRIDGE\, CA (NEXT TO SHELL STATION) \nDIRECTIONS \n—————————————————————————– \nRIDE 2. RIDE W/JBG THE GHETTO LAKE ELSINORE RUN \n8:30 – 9:30 AM CURLEY’S CAFE\, SIGNAL HILL LONG BEACH\ \n9:50 – 10:05 AM HUNTINGTON BEACH HARLEY DAVIDSON \n10:30 – 10:45 AM OC HD DEALERSHIP\, IRVINE\, CA \n11:05 – 11:40 AM SWALLOW’S INN BIKER DIVE BAR\, S.J. CAP. \nLUNCH EITHER HAFEY MTN FARMS OR JACK’S BBQ\, LAKE ELSINORE\, CA \nTAGS: HUNTINGTON BEACH HARLEY DAVIDSON\, OC HD DEALERSHIP\, SWALLOW’S INN\, SAN JUAN CAPISTRANO\, SATURDAY\, MARCH 7\, 2026\, HAFEY FARMS\, JACK’S BBQ\, LAKE ELSINORE\, OPEN RIDE\, ALL BIKES\, ALL TYPES\, ALL BRANDS\, BEGINNERS\, PRO’S\, FRIENDS\, STRANGERS\, NEWBIES\, BIKERS4FUN\, B3F\, JOHNNY B GOOD\, JBG\, FREE EVENTS\, FREE RIDES\, MOTORCYCLES\, INDEPENDENT
URL:https://www.bikers4fun.com/event/92-days-till-the-big-sur-hippie-run-9-13-2024/
ATTACH;FMTTYPE=image/png:https://www.bikers4fun.com/wp-content/uploads/2026/03/cropped-Two-Seperate-Rides-Flier.png
END:VEVENT
BEGIN:VEVENT
DTSTART;TZID=UTC:20260321T100000
DTEND;TZID=UTC:20260321T163000
DTSTAMP:20260421T082014
CREATED:20240802T231211Z
LAST-MODIFIED:20260317T144654Z
UID:2211-1774087200-1774110600@www.bikers4fun.com
SUMMARY:BIKER BIRTHDAY PARTY FOR CECE & JBG ALL PAST\, PRESENT & FUTURE B4F RIDERS WELCOME
DESCRIPTION:THE CECE & JBG BIRTHDAY PARTY AT NOON IN TORRANCE \nWE WILL DO A LOCAL PV PENINSULA COAST RIDE AND THEN TO TORRANCE FOR A BYOB\,  BBQ WILL BE SET UP & POTLUCK DISHES ENCOURAGED  .. . TORRANCE ADDRESS GIVEN AT CURLEY’S CAFE \n 9 – 10:15 AM MEET CURLEY’S CAFE\, 1999 E WILLOW ST.\, LONG BEACH\, CA .  . FOR A COLD ONE OR BLOODY MARY TO GET OUR ATTITUDES RIGHT. \nROUTE OVER THE VINCENT THOMAS BRIDGE\, AROUND PV PENINSULA COAST AND END UP IN TORRANCE FOR JBG & CECE BIRTHDAY PARTY.  \nNOONISH- 4:30 PM MEET AT JOHNNY B GOODS HOUSE\, 1537 W 220TH STREET\, TORRANCE\, CA 90501 \nRSVP TEXT TO JBG C. 310-409-8606 \nA FRIENDLY REMINDER THAT THIS IS B.Y.O.B\, BRING YOUR BOTTLE AND GRUB\, BBQ PIT WILL BE SET UP.   \nTags:  BIRTHDAY\, PARTY\, BIKERS4FUN\, CURRENT\, PAST\, FUTURE\, SATURDAY\, TORRANCE PARTY\, PV COAST RUN\, JACK IN THE BOX\, CURLEY’S CAFE\, LONG BEACH\, free ride\, free event\, newbie’s welcome\, pro’s welcome\, bikers4fun\, b4f\, johnny b good\, jbg\, los angeles\, southern california\, socal\, independent\, website calendar\, motorcycles\, bikers\, riders\, beginners\, sport bikes\, harley davidson\,
URL:https://www.bikers4fun.com/event/tentative-big-sur-hippie-run-sept-13-16-2024/
ATTACH;FMTTYPE=image/png:https://www.bikers4fun.com/wp-content/uploads/2024/08/Biker-Party-Flier.png
END:VEVENT
BEGIN:VEVENT
DTSTART;TZID=UTC:20260322T100000
DTEND;TZID=UTC:20260323T140000
DTSTAMP:20260421T082014
CREATED:20250216T171104Z
LAST-MODIFIED:20260320T143416Z
UID:5801-1774173600-1774274400@www.bikers4fun.com
SUMMARY:THANK YOU ALL FOR THE BIRTHDAY WISHES
DESCRIPTION:TO ALL OF YOU THAT WISHED ME AND CECE BIRTHDAY KUDO’S .. . . THANK YOU  \n9:45 – 10:15  AM  MEET  \nWE RIDE FOR ANY GOOD REASON . .. .OR BAD \n11 – 11:30  AM  MEET AT \nLUNCH  \nJOHNNY B GOOD\, CELLULAR: 310-409-8606 \nTAGS:  FEDERAL\, HOLIDAY\, OPEN RIDE\, CESAR CHAVEZ\, MARCH 30\, 2026 RIDES\, EVENTS\, BIKERS4FUN\, DOT COM\, JOHNNY B GOOD\, B4F\, MOTORCYCLES\, BIKES\, FRIENDS\, OPEN INVITATION\, INDEPENDENT\, FACEBOOK\, BIKERS4FUN SOCAL\, B4F SOCAL\,
URL:https://www.bikers4fun.com/event/possible-fundraiser-coming-up-for-a-fellow-rider-in-the-hospital/
ATTACH;FMTTYPE=image/png:https://www.bikers4fun.com/wp-content/uploads/2026/02/cropped-B4F-No-Rulez-No-Limitz-image.png
END:VEVENT
END:VCALENDAR