BEGIN:VCALENDAR
VERSION:2.0
PRODID:-// - ECPv6.15.20//NONSGML v1.0//EN
CALSCALE:GREGORIAN
METHOD:PUBLISH
X-ORIGINAL-URL:https://www.bikers4fun.com
X-WR-CALDESC:Events for 
REFRESH-INTERVAL;VALUE=DURATION:PT1H
X-Robots-Tag:noindex
X-PUBLISHED-TTL:PT1H
BEGIN:VTIMEZONE
TZID:UTC
BEGIN:STANDARD
TZOFFSETFROM:+0000
TZOFFSETTO:+0000
TZNAME:UTC
DTSTART:20250101T000000
END:STANDARD
END:VTIMEZONE
BEGIN:VEVENT
DTSTART;TZID=UTC:20260411T090000
DTEND;TZID=UTC:20260411T150000
DTSTAMP:20260420T081359
CREATED:20260117T154451Z
LAST-MODIFIED:20260410T145228Z
UID:9624-1775898000-1775919600@www.bikers4fun.com
SUMMARY:OPEN VENTURA COAST RUN TO MARSHALL'S BODACIOUS BBQ
DESCRIPTION:SAT. LOOKS LIKE IT’S A RAIN FREE TYPE OF DAY \n9:00 – 9:15 AM MEET AT JBG HOUSE IN TORRANCE\, GIVE ME A HEADS UP IF YOU WOULD. \n9:45 – 10:15 AM MEET AT BARTELS’ HD DEALERSHIP\, 4141 LINCOLN BLVD\, MARINA DEL REY\, CA \nDIRECTIONS \n10:40 – 11:10 AM  MEET 7 ELEVEN CONV. STORE\, 18541 PAC. CO. HWY.\, MALIBU\, CA 90265 (CORNER OF TOPANGA CANYON & PCH.) \nDIRECTIONS \nWE RIDE WITH ALL TYPES OF BIKES\, BRANDS & TYPES \nROUTE – MALIBU & VENTURA  COAST \nLUNCH AT MARSHALL’S BODACIOUS BBQ (805) 650-0650\, 6353  VENTURA BLVD\, VENTURA\, 93003 \nDIRECTIONS. \nJOHNNY B GOOD CELL: 310-409-8606 \nTAGS: MARSHALL’S\, BODACIOUS BBQ\, BIKERS4FUN\, SOUTHERN CALIFORNIA\, SOCAL\, INDEPENDENT\, SATURDAY\, APRIL 11TH\, ROCK STORE\, DUKES MALIBU\, COAST RUN\, OPEN INVITATION\, ALL RIDING SKILLS AVAILABLE\, OPINIONS COUNT\,  EVENING\, 7:30 PM\, NEW COMERS\, NEW RIDERS\, NEW FRIENDS\, WELCOME\, OPEN\, TO PUBLIC\, LOCAL DAY RIDE\, MOTORCYCLES\, EVENTS\, ALL BRANDS\, ALL STYLES\, ALL RIDERS\, BIKERS4FUN\, B4F\, JBG\, JOHNNY B GOOD\,
URL:https://www.bikers4fun.com/event/spontaneous-sunday-ride-magnum-hd-event/
ATTACH;FMTTYPE=image/png:https://www.bikers4fun.com/wp-content/uploads/2026/04/cropped-Marshalls-bodacious-bbq-April.png
END:VEVENT
END:VCALENDAR