BEGIN:VCALENDAR
VERSION:2.0
PRODID:-// - ECPv6.15.20//NONSGML v1.0//EN
CALSCALE:GREGORIAN
METHOD:PUBLISH
X-ORIGINAL-URL:https://www.bikers4fun.com
X-WR-CALDESC:Events for 
REFRESH-INTERVAL;VALUE=DURATION:PT1H
X-Robots-Tag:noindex
X-PUBLISHED-TTL:PT1H
BEGIN:VTIMEZONE
TZID:UTC
BEGIN:STANDARD
TZOFFSETFROM:+0000
TZOFFSETTO:+0000
TZNAME:UTC
DTSTART:20250101T000000
END:STANDARD
END:VTIMEZONE
BEGIN:VEVENT
DTSTART;TZID=UTC:20260117T093000
DTEND;TZID=UTC:20260117T093000
DTSTAMP:20260420T095703
CREATED:20240402T192040Z
LAST-MODIFIED:20260114T170746Z
UID:454-1768642200-1768642200@www.bikers4fun.com
SUMMARY:VENTURA OPEN & FREE RUN 2 MARSHALL'S BODACIOUS BBQ W/VIP PARKING
DESCRIPTION:Another Spectacular Run With Bikers4Fun. All Events & Rides Are Open To All Motorcycle brands \nSATURDAY RIDE COUNTDOWN \nOnly One Main Meet Up Location . .. . (unless  you contact us in advance within the route) \n9:15 – 10:00  a.m. Meet At Bartels’ HD Dealership\, 4141 Lincoln Bl\, Marina Del Rey\, CA \nDIRECTIONS \nRoute: Beach Coast & A Little Bit Of Freeway \nLunch At Marshall’s Bodacious BBQ\, 6353 Ventura Bl\, Ventura\, CA 93003 \nMarshall’s Bodacious BBQ Website:  BBQ WEBSITE\n \nGroup Leader: Johnny B Wrong . .. Let The Good Times Roll \nTags: Saturday\, January 17th\, 2026 All Brands Welcome\, Public Invited\, Text Your Questions\, Bikers4Fun\, B4F\, Johnny B Good\, JBG\, Marshall’s\, Bodacious\, BBQ\, Saturday\, Motorcycle\, Ride\, Event\, Free\, Public\, Events\, March 15th\, 2025\, Bartels’ HD Dealership\, Marina Del Rey\,
URL:https://www.bikers4fun.com/event/sun-april-7-2024-the-wildflower-super-bloom-cali-run/
LOCATION:Marshall’s Bodacious BBQ\, 6353 Ventura Boulevard\, Ventura
ATTACH;FMTTYPE=image/png:https://www.bikers4fun.com/wp-content/uploads/2024/04/January-Ride-January.png
END:VEVENT
END:VCALENDAR