BEGIN:VCALENDAR
VERSION:2.0
PRODID:-// - ECPv6.15.20//NONSGML v1.0//EN
CALSCALE:GREGORIAN
METHOD:PUBLISH
X-ORIGINAL-URL:https://www.bikers4fun.com
X-WR-CALDESC:Events for 
REFRESH-INTERVAL;VALUE=DURATION:PT1H
X-Robots-Tag:noindex
X-PUBLISHED-TTL:PT1H
BEGIN:VTIMEZONE
TZID:UTC
BEGIN:STANDARD
TZOFFSETFROM:+0000
TZOFFSETTO:+0000
TZNAME:UTC
DTSTART:20240101T000000
END:STANDARD
END:VTIMEZONE
BEGIN:VEVENT
DTSTART;TZID=UTC:20250907T103000
DTEND;TZID=UTC:20250907T143000
DTSTAMP:20260420T104639
CREATED:20240329T153605Z
LAST-MODIFIED:20250909T141811Z
UID:411-1757241000-1757255400@www.bikers4fun.com
SUMMARY:SUN. 9-6-2026 11:00 AM BELMONT SHORES CAR SHOW & LUNCH
DESCRIPTION:All Motorcycles Invited On This Asphalt Long Beach Run\nYou Can Always Invite Your Crew To Join In On This Mellow Run \n9:00 – 3:00 PM Belmont Shores Car Show \n11:00 AM Meet At 1537 W 220th St\, Torrance\, CA 90501 \nDIRECTIONS \nIf You Are In Text JBG: 310-409-8606 \nLunch Is At The Beach Per/Madd Manny & CeCe Ryder \nJohnny B Good:  C 310-409-8606 And I’m All About Options And Back Up Plans
URL:https://www.bikers4fun.com/event/sat-may-11-2024-the-rene-lippman-services-ride-rock-store/
ATTACH;FMTTYPE=image/png:https://www.bikers4fun.com/wp-content/uploads/2025/09/cropped-Belmont-Shores-Car-Show-Sunday-scaled-1.png
END:VEVENT
END:VCALENDAR